BEGIN:VCALENDAR
VERSION:2.0
PRODID:-//ChamberMaster//Event Calendar 2.0//EN
METHOD:PUBLISH
X-PUBLISHED-TTL:P3D
REFRESH-INTERVAL:P3D
CALSCALE:GREGORIAN
BEGIN:VEVENT
DTSTART:20250919T210000Z
DTEND:20250919T220000Z
X-MICROSOFT-CDO-ALLDAYEVENT:FALSE
SUMMARY:Winter Ball Committee Meeting
DESCRIPTION:Winter Ball Committee Meeting to plan December 12\, 2025 Westmont Winter Ball at the Hilton Chicago/Oak Brook Hills resort.\n\nItems to discuss:\n\n- Event Logistics\n\n- Silent and Live Auction
X-ALT-DESC;FMTTYPE=text/html:Winter Ball Committee Meeting to plan December 12\, 2025 Westmont Winter Ball at the Hilton Chicago/Oak Brook Hills resort.<br />\nItems to discuss:<br />\n- Event Logistics<br />\n- Silent and Live Auction<br />\n&nbsp\;
LOCATION:This will be a hybrid meeting both in-person at Westmont Centre\, One South Cass Avenue and via Zoom https://us06web.zoom.us/j/87664941149?pwd=Dj0cdO5JTTRXQFjV19VbakecFAMgeM.1 phone +1 312 626 6799
UID:e.118.12996
SEQUENCE:3
DTSTAMP:20260420T030236Z
URL:https://business.westmontchamber.com/events/details/winter-ball-committee-meeting-12996
END:VEVENT

END:VCALENDAR
