BEGIN:VCALENDAR
VERSION:2.0
PRODID:-//ChamberMaster//Event Calendar 2.0//EN
METHOD:PUBLISH
X-PUBLISHED-TTL:P3D
REFRESH-INTERVAL:P3D
CALSCALE:GREGORIAN
BEGIN:VEVENT
DTSTART:20250815T210000Z
DTEND:20250815T220000Z
X-MICROSOFT-CDO-ALLDAYEVENT:FALSE
SUMMARY:Winter Ball Committee Meeting
DESCRIPTION:Winter Ball Committee Meeting to plan December 12\, 2025 Westmont Winter Ball at the Hilton Chicago/Oak Brook Hills resort.\n\nItems to discuss:\n\n- Theme\n\n- Costs\n\n- Event Logistics\n\n- Silent and Live Auction\n\n- Meals
X-ALT-DESC;FMTTYPE=text/html:Winter Ball Committee Meeting to plan December 12\, 2025 Westmont Winter Ball at the Hilton Chicago/Oak Brook Hills resort.<br />\nItems to discuss:<br />\n- Theme<br />\n- Costs<br />\n- Event Logistics<br />\n- Silent and Live Auction<br />\n- Meals
LOCATION:This will be a hybrid meeting both in-person at Westmont Centre\, One South Cass Avenue and via Zoom https://us06web.zoom.us/j/84699151448?pwd=J0Njd1r0lJPwfA4QISsjIUtnPKbUCQ.1 Meeting ID: 846 9915 1448 Passcode: 268304 phone +1 312 626 6799
UID:e.118.12991
SEQUENCE:3
DTSTAMP:20260420T010638Z
URL:https://business.westmontchamber.com/events/details/winter-ball-committee-meeting-12991
END:VEVENT

END:VCALENDAR
