BEGIN:VCALENDAR
VERSION:2.0
PRODID:-//ChamberMaster//Event Calendar 2.0//EN
METHOD:PUBLISH
X-PUBLISHED-TTL:P3D
REFRESH-INTERVAL:P3D
CALSCALE:GREGORIAN
BEGIN:VEVENT
DTSTART:20250911T150000Z
DTEND:20250911T160000Z
X-MICROSOFT-CDO-ALLDAYEVENT:FALSE
SUMMARY:Tourism & Events Committee Meeting
DESCRIPTION:The Tourism & Events Committee is a committee of the Westmont Chamber of Commerce and Tourism Bureau\, which serves as a resource group to plan events. Key annual events include:\n\n\n	Golf Outing\n	Westmont Pets in the Park\n	Westmont Holly Days\n	Westmont Winter Ball
X-ALT-DESC;FMTTYPE=text/html:<div class="cm_eventSectionHead" style="color: rgb(128\, 128\, 128)\; line-height: 20.8px\; padding-left: 4px\;"><span style="color: rgb(0\, 0\, 0)\;"><span style="font-size: 14px\;"><span style="font-family: arial\;">The Tourism &amp\; Events Committee is a committee of the Westmont Chamber of Commerce and Tourism Bureau\, which&nbsp\;serves as a resource group to plan events.&nbsp\;</span></span><span style="font-size: 14px\;">Key annual events include:</span></span></div>\n\n<ul style="color: rgb(128\, 128\, 128)\; line-height: 20.8px\;">\n	<li class="cm_eventSectionHead" style="padding-left: 4px\;"><span style="font-size: 14px\;"><span style="color: rgb(0\, 0\, 0)\;">Golf Outing</span></span></li>\n	<li class="cm_eventSectionHead" style="padding-left: 4px\;"><span style="font-size: 14px\;"><span style="color: rgb(0\, 0\, 0)\;">Westmont Pets in the Park</span></span></li>\n	<li class="cm_eventSectionHead" style="padding-left: 4px\;"><span style="font-size: 14px\;"><span style="color: rgb(0\, 0\, 0)\;">Westmont Holly Days</span></span></li>\n	<li class="cm_eventSectionHead" style="padding-left: 4px\;"><span style="font-size: 14px\;"><span style="color: rgb(0\, 0\, 0)\;">Westmont Winter Ball</span></span></li>\n</ul>\n
LOCATION:Hybrid meeting. Westmont Centre\, One South Cass Avenue\, first floor conference room and Join Zoom Meeting https://us06web.zoom.us/j/91994202704?pwd=RU52WXZtakxnbkU2MnV3TzBEcitwUT09 Phone: 312 626 6799 US
UID:e.118.12924
SEQUENCE:3
DTSTAMP:20260420T043610Z
URL:https://business.westmontchamber.com/events/details/tourism-events-committee-meeting-09-11-2025-12924
END:VEVENT

END:VCALENDAR
