BEGIN:VCALENDAR
VERSION:2.0
PRODID:-//ChamberMaster//Event Calendar 2.0//EN
METHOD:PUBLISH
X-PUBLISHED-TTL:P3D
REFRESH-INTERVAL:P3D
CALSCALE:GREGORIAN
BEGIN:VEVENT
DTSTART:20250801T130000Z
DTEND:20250801T140000Z
X-MICROSOFT-CDO-ALLDAYEVENT:FALSE
SUMMARY:Senior Resource Committee Meeting
DESCRIPTION:Does your business interact with or market/serve the senior citizen community in our area? Plan to participate in the next meeting of the new Senior Resource Committee and interact with businesses involved with the senior community.\n\nCo-Chair: Mary Ferguson\, The Birches Assisted Living & Memory Care\n\nCo-Chair: Shelly Lindsey\, Cordia Senior Residence\n\n \nhttp://Join Zoom Meeting https://us06web.zoom.us/j/81825683258?pwd=AokybX4YaCIUa75Wfh9N80ZWQY5IXT.1 Meeting ID: 818 2568 3258 Passcode: 651461\nThe purpose of this committee is to promote chamber businesses/organizations whose products\, services and resources are for senior citizens and their families. This committee will also keep like minded businesses informed on local resources that can be useful to them and to share business leads.
X-ALT-DESC;FMTTYPE=text/html:<span style="font-size: 16px\;"><span style="font-family: arial\;"><span style="color: rgb(0\, 0\, 0)\; line-height: normal\;">Does your business interact with or market/serve the senior citizen community in our area?&nbsp\;Plan to participate in the&nbsp\;next&nbsp\;meeting&nbsp\;of the new Senior Resource&nbsp\;Committee&nbsp\;and interact with&nbsp\;businesses involved with the senior&nbsp\;community.</span></span></span><br />\n<span style="color: rgb(0\, 0\, 0)\; font-family: arial\; font-size: 16px\;">Co-Chair: Mary Ferguson\, The Birches Assisted Living &amp\; Memory Care</span><br />\n<span style="font-size: 16px\;"><span style="font-family: arial\;"><span style="color: rgb(0\, 0\, 0)\; line-height: normal\;">Co-Chair: Shelly Lindsey\, Cordia Senior Residence</span></span></span><br />\n&nbsp\;\n<div style="text-align: center\;"><a href="http://Join Zoom Meeting https://us06web.zoom.us/j/81825683258?pwd=AokybX4YaCIUa75Wfh9N80ZWQY5IXT.1  Meeting ID: 818 2568 3258 Passcode: 651461">http://Join Zoom Meeting https://us06web.zoom.us/j/81825683258?pwd=AokybX4YaCIUa75Wfh9N80ZWQY5IXT.1 Meeting ID: 818 2568 3258 Passcode: 651461</a></div>\n<span style="font-size: 14px\;"><em><span style="font-family: arial\;"><span style="color: rgb(0\, 0\, 0)\; line-height: normal\;">The purpose of this committee is to promote chamber businesses/organizations whose products\, services and resources are for senior citizens and their families. This committee will also keep like minded businesses informed on local resources that can be useful to them and to share business leads.&nbsp\;</span></span></em></span><br style="line-height: 20.8px\;" />\n<br style="line-height: 20.8px\;" />\n&nbsp\;
LOCATION:Note: This meeting will be held at Apex Hospice\, 510 Oakmont\, Westmont. and via Zoom: Join Zoom Meeting: https://us06web.zoom.us/j/81825683258?pwd=AokybX4YaCIUa75Wfh9N80ZWQY5IXT.1 Meeting ID: 818 2568 3258 Passcode: 651461 Meeting ID: 818 2568 3258 Passcode: 651461
UID:e.118.12229
SEQUENCE:3
DTSTAMP:20260420T010759Z
URL:https://business.westmontchamber.com/events/details/senior-resource-committee-meeting-08-01-2025-12229
END:VEVENT

END:VCALENDAR
