BEGIN:VCALENDAR
VERSION:2.0
PRODID:-//ChamberMaster//Event Calendar 2.0//EN
METHOD:PUBLISH
X-PUBLISHED-TTL:P3D
REFRESH-INTERVAL:P3D
CALSCALE:GREGORIAN
BEGIN:VEVENT
DTSTART:20251029T170000Z
DTEND:20251029T173000Z
X-MICROSOFT-CDO-ALLDAYEVENT:FALSE
SUMMARY:Ribbon Cutting - Westmont Smiles
DESCRIPTION:Westmont Smiles Ribbon Cutting \n\nWednesday\, October 29\, 2025\n\n12 - 12:30pm\n\n210 N. Cass Ave.\, Suite D\n\n\n\nThe Westmont Chamber welcomes Westmont Smiles to downtown Westmont!\n\nCome and Welcome them !
X-ALT-DESC;FMTTYPE=text/html:<p><strong><span style="font-size: 18px\;">Westmont Smiles Ribbon Cutting&nbsp\;<br />\nWednesday\, October 29\, 2025<br />\n12 - 12:30pm<br />\n210&nbsp\;N. Cass Ave.\, Suite D</span></strong><br />\n<br />\nThe Westmont Chamber welcomes Westmont Smiles&nbsp\;to downtown Westmont!</p>\n\n<p>Come and Welcome them !<br />\n&nbsp\;</p>\n
LOCATION:Westmont Smiles 210 N. Cass Ave.\, Suite D Westmont\, IL 60559
UID:e.118.12993
SEQUENCE:3
DTSTAMP:20260422T090901Z
URL:https://business.westmontchamber.com/events/details/ribbon-cutting-westmont-smiles-12993
END:VEVENT

END:VCALENDAR
