BEGIN:VCALENDAR
VERSION:2.0
PRODID:-//ChamberMaster//Event Calendar 2.0//EN
METHOD:PUBLISH
X-PUBLISHED-TTL:P3D
REFRESH-INTERVAL:P3D
CALSCALE:GREGORIAN
BEGIN:VEVENT
DTSTART:20250828T220000Z
DTEND:20250828T223000Z
X-MICROSOFT-CDO-ALLDAYEVENT:FALSE
SUMMARY:Ribbon Cutting - PostNet
DESCRIPTION:PostNet Ribbon Cutting \n\nThursday\,  August 28\, 2025\n\n5 - 5:30 pm\n\n36 N. Cass Ave.\n\n\n\nThe Westmont Chamber welcomes PostNet to downtown Westmont!\n\nCome and enjoy food\, drink\, door prizes and general merriment!\n\nThe Ribbon Cutting Ceremony will be from 5-5:30pm.\n\nReception/Open House to follow 5:30-7pm.\n\nAttendees should park in the parking lot between Lincoln and Cass and enter PostNet through the back door as Cass Ave will be closed for the Thursday Night Car Show!
X-ALT-DESC;FMTTYPE=text/html:<p><strong><span style="font-size: 18px\;">PostNet Ribbon Cutting&nbsp\;<br />\nThursday\,&nbsp\; August 28\, 2025<br />\n5 - 5:30 pm<br />\n36 N. Cass Ave.</span></strong><br />\n<br />\n<span style="font-size:14px\;">The Westmont Chamber welcomes PostNet to downtown Westmont!</span></p>\n\n<p><span style="font-size:14px\;">Come and enjoy food\, drink\, door prizes and general merriment!</span></p>\n\n<div dir="auto" style="color: rgb(34\, 34\, 34)\; font-family: Arial\, Helvetica\, sans-serif\; font-size: small\;"><span style="font-size:14px\;">The Ribbon Cutting Ceremony will be from 5-5:30pm.<br />\nReception/Open House to follow 5:30-7pm.</span></div>\n\n<div dir="auto" style="color: rgb(34\, 34\, 34)\; font-family: Arial\, Helvetica\, sans-serif\; font-size: small\;"><span style="font-size:14px\;">Attendees should park in the parking lot between Lincoln and Cass and enter PostNet through the back door as Cass Ave will be closed for the Thursday Night Car Show!</span></div>\n
LOCATION:PostNet 36 N. Cass Ave. Westmont\, IL 60559
UID:e.118.12992
SEQUENCE:3
DTSTAMP:20260420T010416Z
URL:https://business.westmontchamber.com/events/details/ribbon-cutting-postnet-12992
END:VEVENT

END:VCALENDAR
