BEGIN:VCALENDAR
VERSION:2.0
PRODID:-//ChamberMaster//Event Calendar 2.0//EN
METHOD:PUBLISH
X-PUBLISHED-TTL:P3D
REFRESH-INTERVAL:P3D
CALSCALE:GREGORIAN
BEGIN:VEVENT
DTSTART:20250827T210000Z
DTEND:20250827T213000Z
X-MICROSOFT-CDO-ALLDAYEVENT:FALSE
SUMMARY:Ribbon Cutting - L Boutique
DESCRIPTION:L Boutique Ribbon Cutting \n\nWednesday\, August 27\, 2025\n\n4 - 4:30 pm
X-ALT-DESC;FMTTYPE=text/html:<strong><span style="font-size: 18px\;">L Boutique Ribbon Cutting&nbsp\;<br />\nWednesday\, August 27\, 2025<br />\n4 - 4:30 pm</span></strong>
LOCATION:L Boutique 124 N. Cass Ave. Westmont\, IL 60559
UID:e.118.12990
SEQUENCE:3
DTSTAMP:20260420T025101Z
URL:https://business.westmontchamber.com/events/details/ribbon-cutting-l-boutique-12990
END:VEVENT

END:VCALENDAR
