BEGIN:VCALENDAR
VERSION:2.0
PRODID:-//ChamberMaster//Event Calendar 2.0//EN
METHOD:PUBLISH
X-PUBLISHED-TTL:P3D
REFRESH-INTERVAL:P3D
CALSCALE:GREGORIAN
BEGIN:VEVENT
DTSTART:20250722T140000Z
DTEND:20250722T151500Z
X-MICROSOFT-CDO-ALLDAYEVENT:FALSE
SUMMARY:New Chamber Member Orientation
DESCRIPTION:Westmont Chamber New Member Orientation\n\n \n\nStarting a new business or joining a new business can be a daunting task.  Questions such as "Who do I talk to for this question?"\, "What forms do I need to do this\,.." \, "How do I make payments on this\,..."\, "How can I get the word out about my business?"\, "What resources do I have at my disposal?"\, and many other questions can overwhelm a new business owner...  \n\nThe Westmont Chamber New Member Orientation meeting will provide you with resources and contacts to help answer the many questions that come across your desk and also provide information on benefits\, resources\, and networking opportunities as a Westmont Chamber member.\n\nThis meeting will introduce you to key community partners.  A partial list of key players includes Village Administration\, Community Development\, the Clerk's Office\, Police department\, Fire department\, the library\, and Chamber board members. \n\n \n\n\n\nHere's more details on what you can expect at this orientation meeting:\n\n\n\n\n\n\n	\n	\n	\n	\n	Welcome and Introductions:\n\n	New members are formally welcomed with introductions to key Village of Westmont staff\, Westmont Chamber staff\, ambassadors\, and Chamber Board Members\n\n	\n\n	Overview of Chamber Benefits:\n	\n	\n	\n	\n	\n	\n	\n	\n	The orientation outlines the various benefits and resources offered by the chamber\, such as networking events\, marketing opportunities\, professional development programs\, and advocacy efforts.\n\n	\n\n	Networking Opportunities:\n	\n	\n	\n	\n	\n	\n	\n	\n	These events provide a platform for new members to connect with each other and with established members\, fostering relationships and potential business partnerships. \n\n	\n\n	Explanation of Chamber Operations:\n	\n	\n	\n	\n	\n	\n	\n	\n	New members learn about the chamber's structure\, how it operates\, and how to navigate its resources. \n\n	\n\n	Q&A and Guidance:\n	\n	\n	\n	\n	\n	\n	\n	\n	Orientations offer a chance for new members to ask questions and receive guidance on how to maximize their membership and achieve their business goals. \n\n	\n\n	Resource Packets:\n	\n	\n	\n	\n	\n	\n	\n	\n	New members receive a welcome packet containing valuable information about the chamber and its services.\n\n	\n\n	Building Connections:\n	\n	\n	\n	\n	\n	\n	\n	\n	Orientations help new members feel connected to the organization and its community\, fostering a sense of belonging and engagement.\n\n	\n\n	\n\n	Why are these orientations important?\n	\n	\n	\n	\n\n\n\n\n\n\n\n	\n	\n	\n	\n	Maximize Membership Value:\n\n	Orientations help new members understand how to leverage their membership to its fullest potential.\n\n	\n\n	Increase Engagement:\n	\n	\n	\n	\n	\n	\n	\n	\n	By connecting with the Chamber and other members\, new members are more likely to actively participate and benefit from the organization. \n\n	\n\n	Build a Strong Foundation:\n	\n	\n	\n	\n	\n	\n	\n	\n	A successful orientation can lay the groundwork for a positive and lasting relationship between the member and the Westmont Chamber.
X-ALT-DESC;FMTTYPE=text/html:<p dir="ltr" style="line-height:1.2\;margin-top:16pt\;margin-bottom:0pt\;"><span id="docs-internal-guid-fad97336-7fff-ecad-748c-171a3b78189a"><span background-color:="" color:="" font-variant-alternates:="" font-variant-east-asian:="" font-variant-emoji:="" font-variant-numeric:="" font-variant-position:="" proxima="" style="font-size: 19pt\; font-family: " vertical-align:="" white-space-collapse:="">Westmont Chamber New Member&nbsp\;Orientation</span></span><br />\n&nbsp\;</p>\n\n<p dir="ltr" style="line-height:1.56\;margin-top:10pt\;margin-bottom:0pt\;"><span id="docs-internal-guid-fad97336-7fff-ecad-748c-171a3b78189a"><span background-color:="" color:="" font-variant-alternates:="" font-variant-east-asian:="" font-variant-emoji:="" font-variant-numeric:="" font-variant-position:="" proxima="" style="font-size: 11pt\; font-family: " vertical-align:="" white-space-collapse:="">Starting a new business or joining a new business can be a daunting task.&nbsp\; Questions such as &ldquo\;Who do I talk to for this question?&rdquo\;\, &ldquo\;What forms do I need to do this\,..&rdquo\; \, &ldquo\;How do I make payments on this\,...&rdquo\;\, &ldquo\;How can I get the word out about my business?&rdquo\;\, &ldquo\;What resources do I have at my disposal?&rdquo\;\, and many other questions can overwhelm a new business owner...&nbsp\;&nbsp\;</span></span></p>\n\n<p dir="ltr" style="line-height:1.56\;margin-top:10pt\;margin-bottom:0pt\;"><span id="docs-internal-guid-fad97336-7fff-ecad-748c-171a3b78189a"><span background-color:="" color:="" font-variant-alternates:="" font-variant-east-asian:="" font-variant-emoji:="" font-variant-numeric:="" font-variant-position:="" proxima="" style="font-size: 11pt\; font-family: " vertical-align:="" white-space-collapse:="">The Westmont Chamber New Member Orientation meeting will provide you with resources and contacts to help answer the many questions that come across your desk and also provide information on benefits\, resources\, and networking opportunities as a Westmont Chamber member.</span></span></p>\n\n<p dir="ltr" style="line-height:1.56\;margin-top:10pt\;margin-bottom:0pt\;"><span id="docs-internal-guid-fad97336-7fff-ecad-748c-171a3b78189a"><span background-color:="" color:="" font-variant-alternates:="" font-variant-east-asian:="" font-variant-emoji:="" font-variant-numeric:="" font-variant-position:="" proxima="" style="font-size: 11pt\; font-family: " vertical-align:="" white-space-collapse:="">This meeting will introduce you to key community partners.&nbsp\;&nbsp\;A partial list of key players includes&nbsp\;Village Administration\, Community Development\, the Clerk&rsquo\;s Office\, Police department\, Fire department\, the library\, and Chamber board members.&nbsp\;</span></span><br />\n&nbsp\;</p>\n\n<div class="WaaZC" font-size:="" google="" style="color: rgb(0\, 29\, 53)\; font-family: ">\n<div class="RJPOee EIJn2" style="animation: auto ease 0s 1 normal none running none !important\;">\n<div class="rPeykc" data-hveid="CA0QAQ" data-ved="2ahUKEwiVyKi8tcSOAxX3v4kEHQH1HGkQo_EKegQIDRAB" style="margin: 10px 0px 20px\;"><span style="font-size:16px\;"><span style="color:#008000\;"><span data-huuid="4873792509351872053">Here&#39\;s more details on what you can expect at this orientation meeting:</span></span></span></div>\n</div>\n</div>\n\n<div class="WaaZC" font-size:="" google="" style="color: rgb(0\, 29\, 53)\; font-family: ">\n<div class="RJPOee EIJn2" style="animation: auto ease 0s 1 normal none running none !important\;">\n<ul data-hveid="CDIQAQ" data-ved="2ahUKEwiVyKi8tcSOAxX3v4kEHQH1HGkQm_YKegQIMhAB" jsaction="jZtoLb:SaHfyb" jscontroller="M2ABbc" style="margin: 10px 0px 20px\; padding-right: 0px\; padding-left: 24px\; font-size: 16px\; line-height: 22px\;">\n	<li class="K3KsMc" style="margin: 0px 0px 8px\; padding: 0px 0px 0px 4px\; list-style-position: inherit\; list-style-image: inherit\; list-style-type: none\;">\n	<div class="zMgcWd dSKvsb" data-il="" style="padding-bottom: 0px\; padding-top: 0px\; border-bottom: none\; margin-left: -28px\;">\n	<div data-crb-p="">\n	<div class="xFTqob" style="flex: 1 1 0%\; min-width: 0px\;">\n	<div class="Gur8Ad" style="line-height: 22px\; overflow: hidden\; padding-bottom: 4px\; transition: transform 200ms cubic-bezier(0.2\, 0\, 0\, 1)\;"><span data-huuid="4873792509351871962"><strong>Welcome and Introductions:</strong></span></div>\n\n	<div class="vM0jzc" style="color: rgb(84\, 93\, 126)\; letter-spacing: 0.1px\; line-height: 22px\;"><span data-huuid="4873792509351872763">New members are formally welcomed with introductions to key Village of Westmont staff\, Westmont Chamber staff\, ambassadors\, and Chamber Board Members</span><br />\n	<br />\n	<strong style="color: rgb(0\, 29\, 53)\;">Overview of Chamber Benefits:</strong></div>\n	</div>\n	</div>\n	</div>\n	</li>\n	<li class="K3KsMc" style="margin: 0px 0px 8px\; padding: 0px 0px 0px 4px\; list-style-position: inherit\; list-style-image: inherit\; list-style-type: none\;">\n	<div class="zMgcWd dSKvsb" data-il="" style="padding-bottom: 0px\; padding-top: 8px\; border-bottom: none\; margin-left: -28px\;">\n	<div data-crb-p="">\n	<div class="xFTqob" style="flex: 1 1 0%\; min-width: 0px\;">\n	<div class="vM0jzc" style="color: rgb(84\, 93\, 126)\; letter-spacing: 0.1px\; line-height: 22px\;"><span data-huuid="4873792509351871070">The orientation outlines the various benefits and resources offered by the chamber\, such as networking events\, marketing opportunities\, professional development programs\, and advocacy efforts.</span><br />\n	<br />\n	<strong style="color: rgb(0\, 29\, 53)\;">Networking Opportunities:</strong></div>\n	</div>\n	</div>\n	</div>\n	</li>\n	<li class="K3KsMc" style="margin: 0px 0px 8px\; padding: 0px 0px 0px 4px\; list-style-position: inherit\; list-style-image: inherit\; list-style-type: none\;">\n	<div class="zMgcWd dSKvsb" data-il="" style="padding-bottom: 0px\; padding-top: 8px\; border-bottom: none\; margin-left: -28px\;">\n	<div data-crb-p="">\n	<div class="xFTqob" style="flex: 1 1 0%\; min-width: 0px\;">\n	<div class="vM0jzc" style="color: rgb(84\, 93\, 126)\; letter-spacing: 0.1px\; line-height: 22px\;"><span data-huuid="4873792509351873473">These events provide a platform for new members to connect with each other and with established members\, fostering relationships and potential business partnerships.<span class="pjBG2e" data-cid="cf809999-43f5-4eea-ada0-c6a9107681a4" jsaction="rcuQ6b:npT2md" jscontroller="JHnpme"><span class="UV3uM" style="text-wrap-mode: nowrap\;">&nbsp\;</span></span></span><br />\n	<br />\n	<strong style="color: rgb(0\, 29\, 53)\;">Explanation of Chamber Operations:</strong></div>\n	</div>\n	</div>\n	</div>\n	</li>\n	<li class="K3KsMc" style="margin: 0px 0px 8px\; padding: 0px 0px 0px 4px\; list-style-position: inherit\; list-style-image: inherit\; list-style-type: none\;">\n	<div class="zMgcWd dSKvsb" data-il="" style="padding-bottom: 0px\; padding-top: 8px\; border-bottom: none\; margin-left: -28px\;">\n	<div data-crb-p="">\n	<div class="xFTqob" style="flex: 1 1 0%\; min-width: 0px\;">\n	<div class="vM0jzc" style="color: rgb(84\, 93\, 126)\; letter-spacing: 0.1px\; line-height: 22px\;"><span data-huuid="4873792509351871780">New members learn about the chamber&#39\;s structure\, how it operates\, and how to navigate its resources.<span class="pjBG2e" data-cid="ee78db58-7c5a-440d-841c-746c82126419" jsaction="rcuQ6b:npT2md" jscontroller="JHnpme"><span class="UV3uM" style="text-wrap-mode: nowrap\;">&nbsp\;</span></span></span><br />\n	<br />\n	<strong style="color: rgb(0\, 29\, 53)\;">Q&amp\;A and Guidance:</strong></div>\n	</div>\n	</div>\n	</div>\n	</li>\n	<li class="K3KsMc" style="margin: 0px 0px 8px\; padding: 0px 0px 0px 4px\; list-style-position: inherit\; list-style-image: inherit\; list-style-type: none\;">\n	<div class="zMgcWd dSKvsb" data-il="" style="padding-bottom: 0px\; padding-top: 8px\; border-bottom: none\; margin-left: -28px\;">\n	<div data-crb-p="">\n	<div class="xFTqob" style="flex: 1 1 0%\; min-width: 0px\;">\n	<div class="vM0jzc" style="color: rgb(84\, 93\, 126)\; letter-spacing: 0.1px\; line-height: 22px\;"><span data-huuid="4873792509351874183">Orientations offer a chance for new members to ask questions and receive guidance on how to maximize their membership and achieve their business goals.<span class="pjBG2e" data-cid="ee340bea-9c0f-49b1-89df-80c4a03139e1" jsaction="rcuQ6b:npT2md" jscontroller="JHnpme"><span class="UV3uM" style="text-wrap-mode: nowrap\;">&nbsp\;</span></span></span><br />\n	<br />\n	<strong style="color: rgb(0\, 29\, 53)\;">Resource Packets:</strong></div>\n	</div>\n	</div>\n	</div>\n	</li>\n	<li class="K3KsMc" style="margin: 0px 0px 8px\; padding: 0px 0px 0px 4px\; list-style-position: inherit\; list-style-image: inherit\; list-style-type: none\;">\n	<div class="zMgcWd dSKvsb" data-il="" style="padding-bottom: 0px\; padding-top: 8px\; border-bottom: none\; margin-left: -28px\;">\n	<div data-crb-p="">\n	<div class="xFTqob" style="flex: 1 1 0%\; min-width: 0px\;">\n	<div class="vM0jzc" style="color: rgb(84\, 93\, 126)\; letter-spacing: 0.1px\; line-height: 22px\;"><span data-huuid="4873792509351872490">New members receive a welcome packet containing valuable information about the chamber and its services.</span><br />\n	<br />\n	<strong style="color: rgb(0\, 29\, 53)\;">Building Connections:</strong></div>\n	</div>\n	</div>\n	</div>\n	</li>\n	<li class="K3KsMc" style="margin: 0px\; padding: 0px 0px 0px 4px\; list-style-position: inherit\; list-style-image: inherit\; list-style-type: none\;">\n	<div class="zMgcWd dSKvsb" data-il="" style="padding-bottom: 0px\; padding-top: 8px\; border-bottom: none\; margin-left: -28px\;">\n	<div data-crb-p="">\n	<div class="xFTqob" style="flex: 1 1 0%\; min-width: 0px\;">\n	<div class="vM0jzc" style="color: rgb(84\, 93\, 126)\; letter-spacing: 0.1px\; line-height: 22px\;"><span data-huuid="4873792509351870797">Orientations help new members feel connected to the organization and its community\, fostering a sense of belonging and engagement.</span><br />\n	<br />\n	<br />\n	<span style="color:#008000\;"><span style="letter-spacing: 0px\; font-size: 18px\;">Why are these orientations important?</span></span></div>\n	</div>\n	</div>\n	</div>\n	</li>\n</ul>\n</div>\n</div>\n\n<div class="WaaZC" font-size:="" google="" style="color: rgb(0\, 29\, 53)\; font-family: ">\n<div class="RJPOee EIJn2" style="animation: auto ease 0s 1 normal none running none !important\;">\n<ul data-hveid="CEgQAQ" data-ved="2ahUKEwiVyKi8tcSOAxX3v4kEHQH1HGkQm_YKegQISBAB" jsaction="jZtoLb:SaHfyb" jscontroller="M2ABbc" style="margin: 10px 0px 20px\; padding-right: 0px\; padding-left: 24px\; font-size: 16px\; line-height: 22px\;">\n	<li class="K3KsMc" style="margin: 0px 0px 8px\; padding: 0px 0px 0px 4px\; list-style-position: inherit\; list-style-image: inherit\; list-style-type: none\;">\n	<div class="zMgcWd dSKvsb" data-il="" style="padding-bottom: 0px\; padding-top: 0px\; border-bottom: none\; margin-left: -28px\;">\n	<div data-crb-p="">\n	<div class="xFTqob" style="flex: 1 1 0%\; min-width: 0px\;">\n	<div class="Gur8Ad" style="line-height: 22px\; overflow: hidden\; padding-bottom: 4px\; transition: transform 200ms cubic-bezier(0.2\, 0\, 0\, 1)\;"><span data-huuid="16439881937344575556"><strong>Maximize Membership Value:</strong></span></div>\n\n	<div class="vM0jzc" style="color: rgb(84\, 93\, 126)\; letter-spacing: 0.1px\; line-height: 22px\;"><span data-huuid="16439881937344574531">Orientations help new members understand how to leverage their membership to its fullest potential.</span><br />\n	<br />\n	<strong style="color: rgb(0\, 29\, 53)\;">Increase Engagement:</strong></div>\n	</div>\n	</div>\n	</div>\n	</li>\n	<li class="K3KsMc" style="margin: 0px 0px 8px\; padding: 0px 0px 0px 4px\; list-style-position: inherit\; list-style-image: inherit\; list-style-type: none\;">\n	<div class="zMgcWd dSKvsb" data-il="" style="padding-bottom: 0px\; padding-top: 8px\; border-bottom: none\; margin-left: -28px\;">\n	<div data-crb-p="">\n	<div class="xFTqob" style="flex: 1 1 0%\; min-width: 0px\;">\n	<div class="vM0jzc" style="color: rgb(84\, 93\, 126)\; letter-spacing: 0.1px\; line-height: 22px\;"><span data-huuid="16439881937344575552">By connecting with the Chamber and other members\, new members are more likely to actively participate and benefit from the organization.<span class="pjBG2e" data-cid="b6f3b5c1-b3a8-4988-88dd-7e9ba18d350c" jsaction="rcuQ6b:npT2md" jscontroller="JHnpme"><span class="UV3uM" style="text-wrap-mode: nowrap\;">&nbsp\;</span></span></span><br />\n	<br />\n	<strong style="color: rgb(0\, 29\, 53)\;">Build a Strong Foundation:</strong></div>\n	</div>\n	</div>\n	</div>\n	</li>\n	<li class="K3KsMc" style="margin: 0px\; padding: 0px 0px 0px 4px\; list-style-position: inherit\; list-style-image: inherit\; list-style-type: none\;">\n	<div class="zMgcWd dSKvsb" data-il="" style="padding-bottom: 0px\; padding-top: 8px\; border-bottom: none\; margin-left: -28px\;">\n	<div data-crb-p="">\n	<div class="xFTqob" style="flex: 1 1 0%\; min-width: 0px\;">\n	<div class="vM0jzc" style="color: rgb(84\, 93\, 126)\; letter-spacing: 0.1px\; line-height: 22px\;"><span data-huuid="16439881937344576573">A successful orientation can lay the groundwork for a positive and lasting relationship between the member and the Westmont Chamber.<span class="pjBG2e" data-cid="f6a793e0-1f49-425a-ba5a-969fdf562efd" jsaction="rcuQ6b:npT2md" jscontroller="JHnpme"><span class="UV3uM" style="text-wrap-mode: nowrap\;">&nbsp\;</span></span></span></div>\n	</div>\n	</div>\n	</div>\n	</li>\n</ul>\n</div>\n</div>\n
LOCATION:Quincy Station Rooftop 1 W. Quincy St. Westmont\, IL 60559
UID:e.118.12915
SEQUENCE:3
DTSTAMP:20260419T232414Z
URL:https://business.westmontchamber.com/events/details/new-chamber-member-orientation-12915
END:VEVENT

END:VCALENDAR
