BEGIN:VCALENDAR
VERSION:2.0
PRODID:-//ChamberMaster//Event Calendar 2.0//EN
METHOD:PUBLISH
X-PUBLISHED-TTL:P3D
REFRESH-INTERVAL:P3D
CALSCALE:GREGORIAN
BEGIN:VEVENT
DTSTART:20250612T130000Z
DTEND:20250612T140000Z
X-MICROSOFT-CDO-ALLDAYEVENT:FALSE
SUMMARY:Downtown Westmont Business Committee Meeting
DESCRIPTION:The Downtown Westmont Business Committee (DWBAC) is a committee of the Westmont Chamber of Commerce and Tourism Bureau\, which serves as a resource group to plan events that promote Downtown Westmont and serves as the voice of the Downtown Westmont Business Community.\n\nCommittee Chair: Dr. Jessica Torok\, Urban Veterinary Associates
X-ALT-DESC;FMTTYPE=text/html:<span style="font-size: 14px\;"><span style="font-family: arial\;">The Downtown Westmont Business Committee (DWBAC)&nbsp\;is a committee&nbsp\;of the Westmont Chamber of Commerce and Tourism Bureau\, which&nbsp\;serves as a resource group to plan events that promote Downtown Westmont and serves as the voice of the Downtown Westmont Business Community.<br />\nCommittee Chair: Dr. Jessica Torok\, Urban Veterinary Associates</span></span>
LOCATION:Hybrid Meeting In-person at Westmont Centre\, One South Cass Ave.\, Westmont (conference room) Zoom Meeting Join Zoom Meeting https://us06web.zoom.us/j/97033040821?pwd=bjNiZlF0R1N6ZXZoYVdXWUlDVFM2Zz09 Meeting ID: 970 3304 0821 Passcode: 644410 One tap mobile +13126266799\,\,97033040821#\,\,\,\,*644410# US (Chicago) Dial by your location +1 312 626 6799 US (Chicago)
UID:e.118.12340
SEQUENCE:3
DTSTAMP:20260419T214928Z
URL:https://business.westmontchamber.com/events/details/downtown-westmont-business-alliance-committee-meeting-06-12-2025-12340
END:VEVENT

END:VCALENDAR
