BEGIN:VCALENDAR
VERSION:2.0
PRODID:-//ChamberMaster//Event Calendar 2.0//EN
METHOD:PUBLISH
X-PUBLISHED-TTL:P3D
REFRESH-INTERVAL:P3D
CALSCALE:GREGORIAN
BEGIN:VEVENT
DTSTART:20250716T220000Z
DTEND:20250716T233000Z
X-MICROSOFT-CDO-ALLDAYEVENT:FALSE
SUMMARY:Business After Hours sponsored by Women in Business Council
DESCRIPTION:Enjoy the view at the Top! The Roof Top at Quincy Station that is.\n\nStop by for refreshments\, Champagne\, raffle prizes\, and more!\n\nBring plenty of business cards for this fun\, networking event!\n\n \n\nThis is a Free event sponsored by the Women in Business Council and Quincy Station.\n\n \n\nAll members welcome to attend.\n\n\n\n=========================\n \n\nThe Mission of the Women in Business Council is:\n\nOur purpose is to provide a platform to empower and inspire the leadership role of women in the workforce. We advance women's leadership skills and foster their business growth through networking\, mentorship opportunities and educational seminars designed specifically for women. \n\n \n\nThe Goals are:\n\nThe goal of the committee is to create a business relevant platform where professional women can gather together for networking connections\, resources and business education. The Council will host networking events\, services\, resources and programs for women to further their career leadership goals. In addition\, the Council will present an annual recognition award to a woman that supports the mission and goals of the Women in Business Council. Further\, the Council will survey members to self-identify areas of expertise in which they are willing to mentor and advise others members.
X-ALT-DESC;FMTTYPE=text/html:<p style="color: rgb(0\, 0\, 0)\; font-family: Arial\, Verdana\, Helvetica\, sans-serif\; font-size: 14px\; margin: 0px\;"><span style="font-family:arial\;"><span new="" style="font-size: 16px\; color: rgb(5\, 5\, 5)\; font-family: Georgia\, " times="">Enjoy the view at the Top! The Roof Top at Quincy Station that is.</span></span></p>\n\n<p style="color: rgb(0\, 0\, 0)\; font-family: Arial\, Verdana\, Helvetica\, sans-serif\; font-size: 14px\; margin: 0px\;"><span style="font-family:arial\;"><span new="" style="font-size: 16px\; color: rgb(5\, 5\, 5)\; font-family: Georgia\, " times="">Stop by for refreshments\, Champagne\, raffle prizes\, and more!</span></span></p>\n\n<p style="color: rgb(0\, 0\, 0)\; font-family: Arial\, Verdana\, Helvetica\, sans-serif\; font-size: 14px\; margin: 0px\;"><span style="font-family:arial\;"><span new="" style="font-size: 16px\; color: rgb(5\, 5\, 5)\; font-family: Georgia\, " times="">Bring plenty of business cards for this fun\, networking event!</span></span></p>\n\n<p style="color: rgb(0\, 0\, 0)\; font-family: Arial\, Verdana\, Helvetica\, sans-serif\; font-size: 14px\; margin: 0px\;"><span style="font-family:arial\;"><span new="" style="font-size: 17px\; color: rgb(5\, 5\, 5)\; font-family: Georgia\, " times="">&nbsp\;</span></span></p>\n\n<p style="color: rgb(0\, 0\, 0)\; font-family: Arial\, Verdana\, Helvetica\, sans-serif\; font-size: 14px\; margin: 0px\;"><span style="font-family:arial\;"><span new="" style="font-size: 16px\; color: rgb(5\, 5\, 5)\; font-family: Georgia\, " times="">This is a Free event sponsored by the Women in Business Council and Quincy Station.</span></span></p>\n\n<p style="color: rgb(0\, 0\, 0)\; font-family: Arial\, Verdana\, Helvetica\, sans-serif\; font-size: 14px\; margin: 0px\;"><span new="" style="font-size: 16px\; color: rgb(5\, 5\, 5)\; font-family: Georgia\, " times="">&#65279\;</span></p>\n\n<p style="color: rgb(0\, 0\, 0)\; font-family: Arial\, Verdana\, Helvetica\, sans-serif\; font-size: 14px\; margin: 0px\;"><span new="" style="font-size: 16px\; color: rgb(5\, 5\, 5)\; font-family: Georgia\, " times="">All members welcome to attend.<br />\n<br />\n=========================</span></p>\n&nbsp\;\n\n<p style="margin: 0px\; padding: 0px\; color: rgb(0\, 0\, 0)\; font-family: Arial\, Verdana\, Helvetica\, sans-serif\; font-size: 14px\; white-space: pre-wrap\;"><span style="font-family:arial\;">The Mission of the Women in Business Council is:</span></p>\n\n<p class="indent-1" style="margin: 0px 0px 0px 3em\; padding: 0px\; color: rgb(0\, 0\, 0)\; font-family: Arial\, Verdana\, Helvetica\, sans-serif\; font-size: 14px\; white-space: pre-wrap\;"><span style="font-family:arial\;"><span style="font-size: 15px\; font-style: italic\;">Our purpose is to provide a platform to empower and inspire the leadership role of women in the workforce. We advance women&#39\;s leadership skills and foster their business growth through networking\, mentorship opportunities and educational seminars designed specifically for women.&nbsp\;</span></span></p>\n\n<p class="indent-1" style="margin: 0px 0px 0px 3em\; padding: 0px\; color: rgb(0\, 0\, 0)\; font-family: Arial\, Verdana\, Helvetica\, sans-serif\; font-size: 14px\; white-space: pre-wrap\;">&nbsp\;</p>\n\n<p style="margin: 0px\; padding: 0px\; color: rgb(0\, 0\, 0)\; font-family: Arial\, Verdana\, Helvetica\, sans-serif\; font-size: 14px\; white-space: pre-wrap\;"><span style="font-family:arial\;">The Goals are:</span></p>\n\n<p class="indent-1" style="margin: 0px 0px 0px 3em\; padding: 0px\; color: rgb(0\, 0\, 0)\; font-family: Arial\, Verdana\, Helvetica\, sans-serif\; font-size: 14px\; white-space: pre-wrap\;"><span style="font-family:arial\;"><span style="font-size: 15px\; font-style: italic\;">The goal of the committee is to create a business relevant platform where professional women can gather together for networking connections\, resources and business education. The Council will host networking events\, services\, resources and programs for women to further their career leadership goals. In addition\, the Council will present an annual recognition award to a woman that supports the mission and goals of the Women in Business Council. Further\, the Council will survey members to self-identify areas of expertise in which they are willing to mentor and advise others members.</span></span></p>\n
LOCATION:Quincy Station- Rooftop 1 W. Quincy St. Westmont\, Illinois 60559
UID:e.118.12916
SEQUENCE:3
DTSTAMP:20260419T234212Z
URL:https://business.westmontchamber.com/events/details/business-after-hours-sponsored-by-women-in-business-council-12916
END:VEVENT

END:VCALENDAR
