BEGIN:VCALENDAR
VERSION:2.0
PRODID:-//ChamberMaster//Event Calendar 2.0//EN
METHOD:PUBLISH
X-PUBLISHED-TTL:P3D
REFRESH-INTERVAL:P3D
CALSCALE:GREGORIAN
BEGIN:VEVENT
DTSTART:20261111T230000Z
DTEND:20261112T003000Z
X-MICROSOFT-CDO-ALLDAYEVENT:FALSE
SUMMARY:Business After Hours at Nick Pitzer State Farm
DESCRIPTION:Please join Westmont Chamber of Commerce members at a Business After Hours Event at\n\n\n\n\n\nNick Pitzer State Farm\n\n38 N. Cass Ave\, Suite 1\n\nWestmont\n\n\n\n\n\nLearn about what services the center offers\, take a tour\, ask questions and network with fellow members and start new business relationships! \n\n\n\nLight refreshments will be served..
X-ALT-DESC;FMTTYPE=text/html:<div>Please join Westmont Chamber of Commerce members at a Business After Hours Event at<br />\n<br />\n<br />\nNick Pitzer State Farm<br />\n38 N. Cass Ave\, Suite 1<br />\nWestmont<br />\n<br />\n<br />\nLearn about what services the center offers\, take a tour\, ask questions and network with fellow members and start new business relationships!&nbsp\;<br />\n<br />\nLight refreshments will be served..</div>\n
LOCATION:Nick Pitzer State Farm 38 N. Cass Ave\, Suite 1 Westmont
UID:e.118.13027
SEQUENCE:3
DTSTAMP:20260422T125903Z
URL:https://business.westmontchamber.com/events/details/business-after-hours-at-nick-pitzer-state-farm-13027
END:VEVENT

END:VCALENDAR
