BEGIN:VCALENDAR
VERSION:2.0
PRODID:-//ChamberMaster//Event Calendar 2.0//EN
METHOD:PUBLISH
X-PUBLISHED-TTL:P3D
REFRESH-INTERVAL:P3D
CALSCALE:GREGORIAN
BEGIN:VEVENT
DTSTART:20250806T220000Z
DTEND:20250806T233000Z
X-MICROSOFT-CDO-ALLDAYEVENT:FALSE
SUMMARY:An Evening at GoPolar Wellness Spa
DESCRIPTION:CHILL & CONNECT   \n\nAn Invigorating Cryotherapy Experience + Networking Social\n\nHosted by the Westmont Chamber's Women in Business Council\n\n\n  Date: Wednesday\, August 6\, 2025\n\n  Time: 5pm - 7pm\n\n  Location: GoPolar Cryotherapy\n\n230 N. Cass Ave.\n\n\n  Just $38 for Members | $48 for Non-Members\n\nIncludes:\n\n  3-minute Whole Body Cryotherapy Session\n\n  Robe & Cryo Garments Provided\n\n  Feel Recharged\, Refreshed & Revitalized!\n\n\n   Stay for Networking!\n\nAfter your session\, join us for casual networking at\n\nNeat Kitchen + Bar\n\n246 N. Cass Ave.\n\nLight bites*\, drinks* & great conversations.\n\n* - Food & beverages will be available for purchase   your responsibility.\n\n\n\nLimited spots available   RSVP today!\n\n \n\n\nThe Mission of the Women in Business Council is:\n\nOur purpose is to provide a platform to empower and inspire the leadership role of women in the workforce. We advance women's leadership skills and foster their business growth through networking\, mentorship opportunities and educational seminars designed specifically for women. \n\n \n\nThe Goals are:\n\nThe goal of the committee is to create a business relevant platform where professional women can gather together for networking connections\, resources and business education. The Council will host networking events\, services\, resources and programs for women to further their career leadership goals. In addition\, the Council will present an annual recognition award to a woman that supports the mission and goals of the Women in Business Council. Further\, the Council will survey members to self-identify areas of expertise in which they are willing to mentor and advise others members.
X-ALT-DESC;FMTTYPE=text/html:<p data-end="204" data-start="114"><strong data-end="139" data-start="114">&#10052\;&#65039\; CHILL &amp\; CONNECT &#10052\;&#65039\;</strong><br data-end="142" data-start="139" />\n<strong data-end="204" data-start="142">An Invigorating Cryotherapy Experience + Networking Social</strong></p>\n\n<p data-end="239" data-start="206"><strong data-end="239" data-start="206">Hosted by the Westmont Chamber&#39\;s Women in Business Council</strong></p>\n\n<hr data-end="244" data-start="241" />\n<p data-end="359" data-start="246"><strong data-end="258" data-start="246">&#128467\; Date:</strong> Wednesday\, August 6\, 2025<br data-end="275" data-start="272" />\n<strong data-end="287" data-start="275">&#128338\; Time:</strong> 5pm - 7pm<br data-end="304" data-start="301" />\n<strong data-end="320" data-start="304">&#128205\; Location:</strong> GoPolar Cryotherapy<br data-end="343" data-start="340" />\n230 N. Cass Ave.</p>\n\n<hr data-end="364" data-start="361" />\n<p data-end="550" data-start="366"><strong data-end="415" data-start="366">&#128293\; Just $38 for Members | $48 for Non-Members</strong><br data-end="418" data-start="415" />\nIncludes:<br data-end="430" data-start="427" />\n&#9989\; 3-minute Whole Body Cryotherapy Session<br data-end="474" data-start="471" />\n&#9989\; Robe &amp\; Cryo Garments Provided<br data-end="508" data-start="505" />\n&#9989\; Feel Recharged\, Refreshed &amp\; Revitalized!</p>\n\n<hr data-end="555" data-start="552" />\n<p data-end="739" data-start="557"><strong data-end="585" data-start="557">&#127869\;&#65039\; Stay for Networking!</strong><br data-end="588" data-start="585" />\nAfter your session\, join us for casual networking at<br data-end="643" data-start="640" />\n<strong data-end="665" data-start="643">Neat Kitchen + Bar</strong><br data-end="668" data-start="665" />\n246 N. Cass Ave.<br data-end="697" data-start="694" />\nLight bites*\, drinks* &amp\; great conversations.<br />\n* -&nbsp\;Food &amp\; beverages will be available for purchase &mdash\; your responsibility.<br />\n<br />\n<strong data-end="787" data-start="746">Limited spots available &ndash\; RSVP today!</strong><br />\n&nbsp\;</p>\n\n<hr data-end="744" data-start="741" />\n<p data-end="824" data-start="746"><span style="font-family:arial\;">The Mission of the Women in Business Council is:</span></p>\n\n<p class="indent-1" style="margin: 0px 0px 0px 3em\; padding: 0px\; color: rgb(0\, 0\, 0)\; font-family: Arial\, Verdana\, Helvetica\, sans-serif\; font-size: 14px\; white-space: pre-wrap\;"><span style="font-family:arial\;"><span style="font-size: 15px\; font-style: italic\;">Our purpose is to provide a platform to empower and inspire the leadership role of women in the workforce. We advance women&#39\;s leadership skills and foster their business growth through networking\, mentorship opportunities and educational seminars designed specifically for women.&nbsp\;</span></span></p>\n\n<p class="indent-1" style="margin: 0px 0px 0px 3em\; padding: 0px\; color: rgb(0\, 0\, 0)\; font-family: Arial\, Verdana\, Helvetica\, sans-serif\; font-size: 14px\; white-space: pre-wrap\;">&nbsp\;</p>\n\n<p style="margin: 0px\; padding: 0px\; color: rgb(0\, 0\, 0)\; font-family: Arial\, Verdana\, Helvetica\, sans-serif\; font-size: 14px\; white-space: pre-wrap\;"><span style="font-family:arial\;">The Goals are:</span></p>\n\n<p class="indent-1" style="margin: 0px 0px 0px 3em\; padding: 0px\; color: rgb(0\, 0\, 0)\; font-family: Arial\, Verdana\, Helvetica\, sans-serif\; font-size: 14px\; white-space: pre-wrap\;"><span style="font-family:arial\;"><span style="font-size: 15px\; font-style: italic\;">The goal of the committee is to create a business relevant platform where professional women can gather together for networking connections\, resources and business education. The Council will host networking events\, services\, resources and programs for women to further their career leadership goals. In addition\, the Council will present an annual recognition award to a woman that supports the mission and goals of the Women in Business Council. Further\, the Council will survey members to self-identify areas of expertise in which they are willing to mentor and advise others members.</span></span></p>\n
LOCATION:Go Polar Wellness Spa 230 N. Cass Ave. Westmont\, Illinois 60559
UID:e.118.12917
SEQUENCE:3
DTSTAMP:20260420T010555Z
URL:https://business.westmontchamber.com/events/details/an-evening-at-gopolar-wellness-spa-12917
END:VEVENT

END:VCALENDAR
