BEGIN:VCALENDAR
VERSION:2.0
PRODID:-//ChamberMaster//Event Calendar 2.0//EN
METHOD:PUBLISH
X-PUBLISHED-TTL:P3D
REFRESH-INTERVAL:P3D
CALSCALE:GREGORIAN
BEGIN:VEVENT
DTSTART:20270205T180000Z
DTEND:20270205T190000Z
X-MICROSOFT-CDO-ALLDAYEVENT:FALSE
SUMMARY:Ambassadors Meeting
DESCRIPTION:Ambassadors Meeting
X-ALT-DESC;FMTTYPE=text/html:Ambassadors Meeting
LOCATION:Westmont Centre (One South Cass Ave.\, Westmont) Conference Room and via Zoom Zoom Link: https://us06web.zoom.us/j/85316506919?pwd=cUGqn9jtTbmFOXhX6fIQEZbMNcteJ1.1
UID:e.118.13246
SEQUENCE:3
DTSTAMP:20260423T161540Z
URL:https://business.westmontchamber.com/events/details/ambassadors-meeting-02-05-2027-13246
END:VEVENT

END:VCALENDAR
